BEGIN:VCALENDAR
VERSION:2.0
CALSCALE:GREGORIAN
PRODID:UW-Madison-Physics-Events
BEGIN:VEVENT
SEQUENCE:0
UID:UW-Physics-Event-1913
DTSTART:20110117T140000Z
DURATION:PT1H0M0S
DTSTAMP:20260420T135020Z
LAST-MODIFIED:20100902T152040Z
LOCATION:
SUMMARY:Martin Luther King Day
DESCRIPTION:
URL:https://www.physics.wisc.edu/events/?id=1913
END:VEVENT
END:VCALENDAR
