BEGIN:VCALENDAR
VERSION:2.0
CALSCALE:GREGORIAN
PRODID:UW-Madison-Physics-Events
BEGIN:VEVENT
SEQUENCE:0
UID:UW-Physics-Event-2030
DTSTART:20110304T220000Z
DURATION:PT1H0M0S
DTSTAMP:20260420T134701Z
LAST-MODIFIED:20110207T170836Z
LOCATION:2241 Chamberlin Hall (coffee at 3:30 pm)
SUMMARY:The Fermilab Holometer: an Experimental Probe of Planck Scale 
 Physics\, Physics Department Colloquium\, Craig Hogan\, Fermilab and U
 niversity of Chicago
DESCRIPTION:Nobody knows how to make space\, time\, matter and energy 
 out of a single quantum theory\, but everyone agrees that that new phy
 sics must come in by the time you reach the Planck scale\, around 10 a
 ttoattometers. This talk will describe an experiment under development
  that might measure the effects of new Planck scale physics at this in
 credibly small scale.
URL:https://www.physics.wisc.edu/events/?id=2030
END:VEVENT
END:VCALENDAR
