BEGIN:VCALENDAR
VERSION:2.0
CALSCALE:GREGORIAN
PRODID:UW-Madison-Physics-Events
BEGIN:VEVENT
SEQUENCE:0
UID:UW-Physics-Event-2037
DTSTART:20110505T150000Z
DURATION:PT1H0M0S
DTSTAMP:20260420T120235Z
LAST-MODIFIED:20110401T174248Z
LOCATION:5310 Chamberlin
SUMMARY:Complex Materials\, Calorimetry\, and Energy Landscapes\, R. G
 . Herb Condensed Matter Seminar\, Alexandra Navrotsky\, University of 
 California - Davis
DESCRIPTION:Freed from the "tyranny of equilibrium"\, modern synthetic
  solid state chemists are producing nanomaterials\, metastable phases\
 , cluster compounds\, and mixed organic-inorganic materials in a wealt
 h of structures with amazing properties. Calorimetric studies have sho
 wn that many of these polymorphs or closely related materials are in f
 act very similar in energy\, tracing out "energy landscapes" as a func
 tion of density\, crystallinity\, hydration\, or other parameters. Thi
 s talk focuses on new experimental thermodynamic results in three clas
 ses of materials:  (1) amorphous and crystalline carbonates in the CaC
 O<sub>3</sub> - MgCO<sub>3</sub> - H<sub>2</sub>O system\, (2) zeolite
 s\, mesoporous silicas\, and metal organic frameworks (MOF)\, and (3) 
 polynuclear cluster compounds in aluminum and uranium based systems.
URL:https://www.physics.wisc.edu/events/?id=2037
END:VEVENT
END:VCALENDAR
