BEGIN:VCALENDAR
VERSION:2.0
CALSCALE:GREGORIAN
PRODID:UW-Madison-Physics-Events
BEGIN:VEVENT
SEQUENCE:0
UID:UW-Physics-Event-2045
DTSTART:20110124T180500Z
DURATION:PT1H0M0S
DTSTAMP:20260420T145930Z
LAST-MODIFIED:20110111T174135Z
LOCATION:2241 Chamberlin Hall
SUMMARY:Ion Energization During Magnetic Reconnection in MST\, Plasma 
 Physics (Physics/ECE/NE 922) Seminar\, Rich Magee\, University of Wisc
 onsin/Dept. of Physics/Plasma
DESCRIPTION:
URL:https://www.physics.wisc.edu/events/?id=2045
END:VEVENT
END:VCALENDAR
