BEGIN:VCALENDAR
VERSION:2.0
CALSCALE:GREGORIAN
PRODID:UW-Madison-Physics-Events
BEGIN:VEVENT
SEQUENCE:0
UID:UW-Physics-Event-2047
DTSTART:20110217T220000Z
DURATION:PT1H0M0S
DTSTAMP:20260420T134744Z
LAST-MODIFIED:20110124T165658Z
LOCATION:4274 Chamberlin Hall
SUMMARY:Supernova Burst Studies in DUSEL Detectors\, NPAC (Nuclear/Par
 ticle/Astro/Cosmo) Forum\, Alex Friedland\, LANL
DESCRIPTION:
URL:https://www.physics.wisc.edu/events/?id=2047
END:VEVENT
END:VCALENDAR
