BEGIN:VCALENDAR
VERSION:2.0
CALSCALE:GREGORIAN
PRODID:UW-Madison-Physics-Events
BEGIN:VEVENT
SEQUENCE:0
UID:UW-Physics-Event-2050
DTSTART:20110303T220000Z
DURATION:PT1H0M0S
DTSTAMP:20260420T135001Z
LAST-MODIFIED:20110207T165500Z
LOCATION:4274 Chamberlin Hall
SUMMARY:Neutrinos and the Future of the Standard Model\, NPAC (Nuclear
 /Particle/Astro/Cosmo) Forum\, Dan Dwyer\, Caltech
DESCRIPTION:For over 30 years the Standard Model has served as our tem
 plate for interpreting the world of particle physics.  Recent results 
 from neutrino experiments have shown that we must modify this long-sta
 nding theory.  Current and future experiments will be discussed\, with
  special attention on the KamLAND and Daya Bay neutrino oscillation ex
 periments.  The necessary changes for the Standard Model have conseque
 nces for the current set of fundamental particles\, the nature of dark
  matter\, and the matter-antimatter asymmetry of the universe.
URL:https://www.physics.wisc.edu/events/?id=2050
END:VEVENT
END:VCALENDAR
