BEGIN:VCALENDAR
VERSION:2.0
CALSCALE:GREGORIAN
PRODID:UW-Madison-Physics-Events
BEGIN:VEVENT
SEQUENCE:0
UID:UW-Physics-Event-2091
DTSTART:20110207T180500Z
DURATION:PT1H0M0S
DTSTAMP:20260420T134849Z
LAST-MODIFIED:20110121T190811Z
LOCATION:2241 Chamberlin Hall
SUMMARY:MHD Simulations of Magnetic Reconnection with Application to S
 olar Flares and Magnetospheric Substorms\, Plasma Physics (Physics/ECE
 /NE 922) Seminar\, Joachim Birn\, Los Alamos National Laboratory
DESCRIPTION:
URL:https://www.physics.wisc.edu/events/?id=2091
END:VEVENT
END:VCALENDAR
