BEGIN:VCALENDAR
VERSION:2.0
CALSCALE:GREGORIAN
PRODID:UW-Madison-Physics-Events
BEGIN:VEVENT
SEQUENCE:0
UID:UW-Physics-Event-2097
DTSTART:20110213T010000Z
DURATION:PT1H0M0S
DTSTAMP:20260420T134702Z
LAST-MODIFIED:20110125T145427Z
LOCATION:2103 Chamberlin
SUMMARY:Annual show\, Wonders of Physics\, Clint Sprott
DESCRIPTION:
URL:https://www.physics.wisc.edu/events/?id=2097
END:VEVENT
END:VCALENDAR
