BEGIN:VCALENDAR
VERSION:2.0
CALSCALE:GREGORIAN
PRODID:UW-Madison-Physics-Events
BEGIN:VEVENT
SEQUENCE:0
UID:UW-Physics-Event-2098
DTSTART:20110213T190000Z
DURATION:PT1H0M0S
DTSTAMP:20260420T134849Z
LAST-MODIFIED:20110125T145631Z
LOCATION:2103 Chamberlin
SUMMARY:Annual show\, Wonders of Physics\, Clint Sprott
DESCRIPTION:
URL:https://www.physics.wisc.edu/events/?id=2098
END:VEVENT
END:VCALENDAR
