BEGIN:VCALENDAR
VERSION:2.0
CALSCALE:GREGORIAN
PRODID:UW-Madison-Physics-Events
BEGIN:VEVENT
SEQUENCE:0
UID:UW-Physics-Event-2117
DTSTART:20110211T203000Z
DTEND:20110211T213000Z
DTSTAMP:20260420T145932Z
LAST-MODIFIED:20110207T205810Z
LOCATION:5280 Chamberlin Hall
SUMMARY:Top Quark Polarization Measurement in Dilepton Channel and New
  Physics Search\, Theory/Phenomenology Seminar\, Qing-Hong Cao\, Argon
 ne National Laboratory and University of Chicago
DESCRIPTION:
URL:https://www.physics.wisc.edu/events/?id=2117
END:VEVENT
END:VCALENDAR
