BEGIN:VCALENDAR
VERSION:2.0
CALSCALE:GREGORIAN
PRODID:UW-Madison-Physics-Events
BEGIN:VEVENT
SEQUENCE:0
UID:UW-Physics-Event-2119
DTSTART:20110221T180500Z
DURATION:PT1H0M0S
DTSTAMP:20260420T150052Z
LAST-MODIFIED:20110414T134846Z
LOCATION:2241 Chamberlin Hall
SUMMARY:Current Layer Disruptions and Associated Turbulence in the Mag
 netic Reconnection Experiment (MRX)\, Plasma Physics (Physics/ECE/NE 9
 22) Seminar\, Seth Dorfman\, Princeton Plasma Physics Laboratory
DESCRIPTION:
URL:https://www.physics.wisc.edu/events/?id=2119
END:VEVENT
END:VCALENDAR
