BEGIN:VCALENDAR
VERSION:2.0
CALSCALE:GREGORIAN
PRODID:UW-Madison-Physics-Events
BEGIN:VEVENT
SEQUENCE:0
UID:UW-Physics-Event-2120
DTSTART:20110228T180500Z
DURATION:PT1H0M0S
DTSTAMP:20260420T134601Z
LAST-MODIFIED:20110209T142958Z
LOCATION:2241 Chamberlin Hall
SUMMARY:Numerical Simulation and Analysis of Plasma Turbulence in LAPD
 \, Plasma Physics (Physics/ECE/NE 922) Seminar\, Max Umansky\, Lawrenc
 e Livermore National Laboratory
DESCRIPTION:
URL:https://www.physics.wisc.edu/events/?id=2120
END:VEVENT
END:VCALENDAR
