BEGIN:VCALENDAR
VERSION:2.0
CALSCALE:GREGORIAN
PRODID:UW-Madison-Physics-Events
BEGIN:VEVENT
SEQUENCE:0
UID:UW-Physics-Event-2133
DTSTART:20110307T180500Z
DURATION:PT1H0M0S
DTSTAMP:20260420T150025Z
LAST-MODIFIED:20110302T145743Z
LOCATION:2241 Chamberlin Hall
SUMMARY:High-Energy-Density Laboratory Astrophysics Experiments at the
  Omega Laser Facility and the National Ignition Facility\, Plasma Phys
 ics (Physics/ECE/NE 922) Seminar\, Carolyn Kuranz\, University of Mich
 igan
DESCRIPTION:
URL:https://www.physics.wisc.edu/events/?id=2133
END:VEVENT
END:VCALENDAR
