BEGIN:VCALENDAR
VERSION:2.0
CALSCALE:GREGORIAN
PRODID:UW-Madison-Physics-Events
BEGIN:VEVENT
SEQUENCE:0
UID:UW-Physics-Event-2143
DTSTART:20110411T170500Z
DURATION:PT1H0M0S
DTSTAMP:20260420T134435Z
LAST-MODIFIED:20110414T134611Z
LOCATION:2241 Chamberlin Hall
SUMMARY:Quasi-axisymmetric Tokamak: Breaking Tokamak Symmetry -- The G
 ood\, the Bad\, and the Beautiful\, Plasma Physics (Physics/ECE/NE 922
 ) Seminar\, Tony Taylor\, General Atomics
DESCRIPTION:
URL:https://www.physics.wisc.edu/events/?id=2143
END:VEVENT
END:VCALENDAR
