BEGIN:VCALENDAR
VERSION:2.0
CALSCALE:GREGORIAN
PRODID:UW-Madison-Physics-Events
BEGIN:VEVENT
SEQUENCE:0
UID:UW-Physics-Event-2150
DTSTART:20110328T170500Z
DURATION:PT1H0M0S
DTSTAMP:20260420T134859Z
LAST-MODIFIED:20110322T120858Z
LOCATION:2241 Chamberlin Hall
SUMMARY:Inertial Fusion Energy Prospects - The LIFE Reactor Concept\, 
 Plasma Physics (Physics/ECE/NE 922) Seminar\, Greg Moses\, UW-Madison 
 Dept of Engineering Physics
DESCRIPTION:The basics of economical inertial fusion energy and ICF hi
 gh gain target performance will be reviewed.  The Lawrence Livermore N
 ational Laboratory LIFE reactor concept will be described.  Recent exp
 eriences and insights while on sabbatical at LLNL (Jan-May 2010) will 
 be revealed.
URL:https://www.physics.wisc.edu/events/?id=2150
END:VEVENT
END:VCALENDAR
