BEGIN:VCALENDAR
VERSION:2.0
CALSCALE:GREGORIAN
PRODID:UW-Madison-Physics-Events
BEGIN:VEVENT
SEQUENCE:0
UID:UW-Physics-Event-2152
DTSTART:20110512T210000Z
DURATION:PT1H0M0S
DTSTAMP:20260420T120021Z
LAST-MODIFIED:20110328T163754Z
LOCATION:4274 Chamberlin Hall
SUMMARY:TBA\, NPAC (Nuclear/Particle/Astro/Cosmo) Forum\, Jeff Allen\,
  NYU
DESCRIPTION:
URL:https://www.physics.wisc.edu/events/?id=2152
END:VEVENT
END:VCALENDAR
