BEGIN:VCALENDAR
VERSION:2.0
CALSCALE:GREGORIAN
PRODID:UW-Madison-Physics-Events
BEGIN:VEVENT
SEQUENCE:0
UID:UW-Physics-Event-2160
DTSTART:20110504T163000Z
DURATION:PT1H0M0S
DTSTAMP:20260420T120302Z
LAST-MODIFIED:20110405T190009Z
LOCATION:Rooftop of Sterling Hall
SUMMARY:Senior Send off Pizza Party\, Physics & Astronomy Departments
DESCRIPTION:Pizza & Soda<br>\n(weather permitting)
URL:https://www.physics.wisc.edu/events/?id=2160
END:VEVENT
END:VCALENDAR
