BEGIN:VCALENDAR
VERSION:2.0
CALSCALE:GREGORIAN
PRODID:UW-Madison-Physics-Events
BEGIN:VEVENT
SEQUENCE:0
UID:UW-Physics-Event-2163
DTSTART:20110513T193000Z
DURATION:PT1H0M0S
DTSTAMP:20260420T120426Z
LAST-MODIFIED:20110407T031429Z
LOCATION:4274 Chamberlin
SUMMARY:TBA\, NPAC (Nuclear/Particle/Astro/Cosmo) Forum\, Mischa Malko
 v\, UCSB
DESCRIPTION:
URL:https://www.physics.wisc.edu/events/?id=2163
END:VEVENT
END:VCALENDAR
