BEGIN:VCALENDAR
VERSION:2.0
CALSCALE:GREGORIAN
PRODID:UW-Madison-Physics-Events
BEGIN:VEVENT
SEQUENCE:0
UID:UW-Physics-Event-2190
DTSTART:20110607T160000Z
DURATION:PT1H0M0S
DTSTAMP:20260420T120053Z
LAST-MODIFIED:20110609T165506Z
LOCATION:5280 Chamberlin
SUMMARY:Preparation and counting of atoms in micro-traps\, Atomic Phys
 ics Seminar\, Mikkel Andersen\, University of Otago
DESCRIPTION:
URL:https://www.physics.wisc.edu/events/?id=2190
END:VEVENT
END:VCALENDAR
