BEGIN:VCALENDAR
VERSION:2.0
CALSCALE:GREGORIAN
PRODID:UW-Madison-Physics-Events
BEGIN:VEVENT
SEQUENCE:0
UID:UW-Physics-Event-2191
DTSTART:20110616T193000Z
DTEND:20110616T204000Z
DTSTAMP:20260420T120021Z
LAST-MODIFIED:20110614T164837Z
LOCATION:5280 Chamberlin Hall
SUMMARY:A Bound State Perspective\, Theory/Phenomenology Seminar\, Pau
 l Hoyer\, Helsinki University & Helsinki Institute of Physics
DESCRIPTION:
URL:https://www.physics.wisc.edu/events/?id=2191
END:VEVENT
END:VCALENDAR
