BEGIN:VCALENDAR
VERSION:2.0
CALSCALE:GREGORIAN
PRODID:UW-Madison-Physics-Events
BEGIN:VEVENT
SEQUENCE:0
UID:UW-Physics-Event-2197
DTSTART:20110721T193000Z
DTEND:20110721T203500Z
DTSTAMP:20260420T120205Z
LAST-MODIFIED:20110711T175739Z
LOCATION:5280 Chamberlin Hall
SUMMARY:Associated Production of KK-Graviton and a Boson\, via Gluon F
 usion in ADD Model\, Theory/Phenomenology Seminar\, Ambresh Shivaji\, 
 Institute of Physics Bhubaneswar
DESCRIPTION:
URL:https://www.physics.wisc.edu/events/?id=2197
END:VEVENT
END:VCALENDAR
