BEGIN:VCALENDAR
VERSION:2.0
CALSCALE:GREGORIAN
PRODID:UW-Madison-Physics-Events
BEGIN:VEVENT
SEQUENCE:0
UID:UW-Physics-Event-2199
DTSTART:20120504T210000Z
DURATION:PT1H0M0S
DTSTAMP:20260420T041035Z
LAST-MODIFIED:20120502T152403Z
LOCATION:2241 Chamberlin Hall (coffee at 3:30 pm)
SUMMARY:Alumni Award Speaker\, Physics Department Colloquium\, Ronald 
 Lockwood\, Lincoln Laboratory\, Massachusetts Institute of Technology
DESCRIPTION:Imaging spectroscopy is a sophisticated tool used to addre
 ss a broad range of scientific questions in remote sensing.  Imaging s
 pectroscopy is an evolution of the multi-spectral imagers that are com
 monly employed for remote sensing such as NASA's LandSat series.  This
  talk is a broad overview of the technology including a conceptual int
 roduction\, a review of the optical forms that are generally applied w
 ith a more detailed description of the Chrisp-Offner design\, a descri
 ption of the established techniques employed for both the laboratory a
 nd field (vicarious) calibration in order to convert the raw data to p
 hysical units\, the removal of the deleterious effects of the atmosphe
 re through the application of the principles of radiative transfer\, a
 nd the techniques used for performing material detection.
URL:https://www.physics.wisc.edu/events/?id=2199
END:VEVENT
END:VCALENDAR
