BEGIN:VCALENDAR
VERSION:2.0
CALSCALE:GREGORIAN
PRODID:UW-Madison-Physics-Events
BEGIN:VEVENT
SEQUENCE:0
UID:UW-Physics-Event-2208
DTSTART:20110922T223000Z
DURATION:PT1H0M0S
DTSTAMP:20260420T150020Z
LAST-MODIFIED:20110824T175734Z
LOCATION:2223 Chamberlin Hall
SUMMARY:High Energy Collider Experiment Seminar\, Graduate Introductor
 y Seminar\, Carlsmith\, Dasu\, Herndon\, Mellado\, Pan\, Smith\, Wu
DESCRIPTION:
URL:https://www.physics.wisc.edu/events/?id=2208
END:VEVENT
END:VCALENDAR
