BEGIN:VCALENDAR
VERSION:2.0
CALSCALE:GREGORIAN
PRODID:UW-Madison-Physics-Events
BEGIN:VEVENT
SEQUENCE:0
UID:UW-Physics-Event-2213
DTSTART:20111027T223000Z
DURATION:PT1H0M0S
DTSTAMP:20260420T132601Z
LAST-MODIFIED:20110824T175842Z
LOCATION:2223 Chamberlin Hall
SUMMARY:Biophysics Seminar\, Graduate Introductory Seminar\, Coppersmi
 th\, Gilbert
DESCRIPTION:
URL:https://www.physics.wisc.edu/events/?id=2213
END:VEVENT
END:VCALENDAR
