BEGIN:VCALENDAR
VERSION:2.0
CALSCALE:GREGORIAN
PRODID:UW-Madison-Physics-Events
BEGIN:VEVENT
SEQUENCE:0
UID:UW-Physics-Event-2217
DTSTART:20111201T233000Z
DURATION:PT1H0M0S
DTSTAMP:20260420T100204Z
LAST-MODIFIED:20110822T202451Z
LOCATION:2223 Chamberlin Hall
SUMMARY:Medical Physics Seminar\, Graduate Introductory Seminar\, Birn
 \, Christian\, Nickles
DESCRIPTION:
URL:https://www.physics.wisc.edu/events/?id=2217
END:VEVENT
END:VCALENDAR
