BEGIN:VCALENDAR
VERSION:2.0
CALSCALE:GREGORIAN
PRODID:UW-Madison-Physics-Events
BEGIN:VEVENT
SEQUENCE:0
UID:UW-Physics-Event-2224
DTSTART:20110906T210000Z
DURATION:PT1H0M0S
DTSTAMP:20260420T160539Z
LAST-MODIFIED:20110901T123211Z
LOCATION:5280 Chamberlin
SUMMARY:Flavor Symmetries and Lepton Mixing in Light of Non-Vanishing 
 theta13\, Theory Seminar (High Energy/Cosmology)\, Claudia Hagedorn\, 
 INFN\, Padua and the University of Padua
DESCRIPTION:I will first discuss the new experimental results indicati
 ng non-vanishing theta13 and then emphasize the implications for model
 s using flavor symmetries to predict a specific mixing pattern. I will
  explain in some detail the origin of flavor mixing from non-trivially
  broken discrete symmetries. At the end I may give a brief overview of
  other ideas recently proposed in order to accommodate values of theta
 13 around 0.1.
URL:https://www.physics.wisc.edu/events/?id=2224
END:VEVENT
END:VCALENDAR
