BEGIN:VCALENDAR
VERSION:2.0
CALSCALE:GREGORIAN
PRODID:UW-Madison-Physics-Events
BEGIN:VEVENT
SEQUENCE:0
UID:UW-Physics-Event-2225
DTSTART:20110923T190000Z
DURATION:PT1H0M0S
DTSTAMP:20260420T160539Z
LAST-MODIFIED:20110916T151428Z
LOCATION:5280 Chamberlin
SUMMARY:The Matrix Element Method for Higgs Discovery and Spin Determi
 nation\, Theory Seminar (High Energy/Cosmology)\, Jamie Gainer\, Argon
 ne National Laboratory and Northwestern U.
DESCRIPTION:Multivariate Analyses (MVA) have become important tools fo
 r experimentalists in recent years.  A particular MVA\, the Matrix Ele
 ment Method (MEM) uses  full differential cross section information in
  determining the event by event likelihood.  We examine the extent to 
 which the use of the MEM allows one to increase the significance for H
 iggs discovery in various channels where the Higgs decays to gauge bos
 ons which in turn decay leptonically.  We additionally consider the us
 e of the MEM for spin discrimination in these channels.
URL:https://www.physics.wisc.edu/events/?id=2225
END:VEVENT
END:VCALENDAR
