BEGIN:VCALENDAR
VERSION:2.0
CALSCALE:GREGORIAN
PRODID:UW-Madison-Physics-Events
BEGIN:VEVENT
SEQUENCE:0
UID:UW-Physics-Event-2231
DTSTART:20110920T170500Z
DURATION:PT1H0M0S
DTSTAMP:20260420T160413Z
LAST-MODIFIED:20110906T191620Z
LOCATION:4274 Chamberlin
SUMMARY:Bees: What is all the buzz about?\, Chaos & Complex Systems Se
 minar\, Hannah R. Gaines\, UW Department of Entomology
DESCRIPTION:One in every three bites we eat is dependent on pollinator
 s.  Bees\, the most important pollinators\, however\, are in decline a
 round the world.  Historically\, farmers have relied upon one species\
 , the non-native honey bee (Apis mellifera) for their pollination requ
 irements.  In recent years\, however\, honey bees have declined drasti
 cally as a result of mites\, disease\, and the recent emergence of Col
 ony Collapse Disorder (CCD).  As CCD continues to spread and devastate
  honey bee colonies\, farmers will need to seek alternative ways of po
 llinating their crops.  Native bees also provide valuable pollination 
 services but have largely been overlooked and are at risk of decline d
 ue to habitat fragmentation\, intensified agriculture\, and agri-chemi
 cal exposure.  In this seminar I will talk about the current status of
  pollinators\, their importance to world agriculture\, and our researc
 h addressing the importance of native pollinators and their response t
 o landscape structure.<br>\n<br>\n
URL:https://www.physics.wisc.edu/events/?id=2231
END:VEVENT
END:VCALENDAR
