BEGIN:VCALENDAR
VERSION:2.0
CALSCALE:GREGORIAN
PRODID:UW-Madison-Physics-Events
BEGIN:VEVENT
SEQUENCE:0
UID:UW-Physics-Event-2236
DTSTART:20111101T170500Z
DURATION:PT1H0M0S
DTSTAMP:20260420T113737Z
LAST-MODIFIED:20110906T193530Z
LOCATION:4274 Chamberlin
SUMMARY:Linear social interactions models\, Chaos & Complex Systems Se
 minar\, Steven Durlauf\, UW Department of Economics
DESCRIPTION:This talk will provide an overview of recent efforts by ec
 onomists to understand social influences on economic behavior. The tal
 k will emphasize the difficulties involved in uncovering evidence of s
 ocial forces from observational data. Links to the growing literature 
 on social networks will be made.<br>\n
URL:https://www.physics.wisc.edu/events/?id=2236
END:VEVENT
END:VCALENDAR
