BEGIN:VCALENDAR
VERSION:2.0
CALSCALE:GREGORIAN
PRODID:UW-Madison-Physics-Events
BEGIN:VEVENT
SEQUENCE:0
UID:UW-Physics-Event-2239
DTSTART:20110915T203000Z
DTEND:20110915T100000Z
DTSTAMP:20260420T150200Z
LAST-MODIFIED:20110908T190603Z
LOCATION:4421 Sterling Hall
SUMMARY:Reconnection Diffusion: Changing the Star Formation Paradigm\,
  Astronomy Colloquium\, Professor Alexander Lazarian
DESCRIPTION:For decades the idea that star formation is regulated by a
 mbipolar diffusion dominated theories of star formation.  Recent obser
 vational data shows that the traditional textbook paradigm has serious
  problems. At the same time recent progress in understanding th magnet
 ic reconnection in realistically  turbulent environments provides a di
 fferent scenario of star formation\, which is based on a new concept t
 ermed reconnection diffusion.  I shall discuss the idea of fast reconn
 ection in turbulent media\, which is the basis of reconnection diffusi
 on\, problems with explaining the existing observational data and the 
 theoretical predictions that the reconnection diffusion entails.
URL:https://www.physics.wisc.edu/events/?id=2239
END:VEVENT
END:VCALENDAR
