BEGIN:VCALENDAR
VERSION:2.0
CALSCALE:GREGORIAN
PRODID:UW-Madison-Physics-Events
BEGIN:VEVENT
SEQUENCE:0
UID:UW-Physics-Event-2240
DTSTART:20120330T203000Z
DURATION:PT1H0M0S
DTSTAMP:20260420T062441Z
LAST-MODIFIED:20120328T153449Z
LOCATION:2241 Chamberlin Hall (coffee at 4:30 pm)
SUMMARY:Canceled\, Physics Department Colloquium\, Michael Corradini\,
  Engineering Physics\, University of Wisconsin-Madison
DESCRIPTION:
URL:https://www.physics.wisc.edu/events/?id=2240
END:VEVENT
END:VCALENDAR
