BEGIN:VCALENDAR
VERSION:2.0
CALSCALE:GREGORIAN
PRODID:UW-Madison-Physics-Events
BEGIN:VEVENT
SEQUENCE:0
UID:UW-Physics-Event-2256
DTSTART:20111128T180500Z
DURATION:PT1H0M0S
DTSTAMP:20260420T113549Z
LAST-MODIFIED:20110914T150729Z
LOCATION:2317 Engineering Hall
SUMMARY:TBD\, Plasma Physics (Physics/ECE/NE 922) Seminar\, TBD
DESCRIPTION:
URL:https://www.physics.wisc.edu/events/?id=2256
END:VEVENT
END:VCALENDAR
