BEGIN:VCALENDAR
VERSION:2.0
CALSCALE:GREGORIAN
PRODID:UW-Madison-Physics-Events
BEGIN:VEVENT
SEQUENCE:0
UID:UW-Physics-Event-2258
DTSTART:20111212T180500Z
DURATION:PT1H0M0S
DTSTAMP:20260420T100332Z
LAST-MODIFIED:20110914T151238Z
LOCATION:2317 Engineering Hall
SUMMARY:TBD\, Plasma Physics (Physics/ECE/NE 922) Seminar\, Gennady Fi
 ksel\, University of Rochester
DESCRIPTION:
URL:https://www.physics.wisc.edu/events/?id=2258
END:VEVENT
END:VCALENDAR
