BEGIN:VCALENDAR
VERSION:2.0
CALSCALE:GREGORIAN
PRODID:UW-Madison-Physics-Events
BEGIN:VEVENT
SEQUENCE:0
UID:UW-Physics-Event-2261
DTSTART:20110923T170000Z
DURATION:PT1H0M0S
DTSTAMP:20260420T150055Z
LAST-MODIFIED:20110920T150219Z
LOCATION:5242 Chamberlin Hall
SUMMARY:An Informal discussion about a broad variety of arXiv papers r
 elated to Cosmology\, Cosmology Journal Club
DESCRIPTION:This week we'll discuss...<br>\n    <a href="">Papers
  that have not yet been determined</a><br>\nPlease feel free to bring
  your lunch!<br>\nIf you have questions or comments about this journa
 l club\, would like to propose a topic</br>\nor volunteer to introduc
 e a paper\, please email Le Zhang (lzhang263@wisc.edu).\n
URL:https://www.physics.wisc.edu/events/?id=2261
END:VEVENT
END:VCALENDAR
