BEGIN:VCALENDAR
VERSION:2.0
CALSCALE:GREGORIAN
PRODID:UW-Madison-Physics-Events
BEGIN:VEVENT
SEQUENCE:0
UID:UW-Physics-Event-2276
DTSTART:20110928T171500Z
DURATION:PT1H0M0S
DTSTAMP:20260420T160330Z
LAST-MODIFIED:20110920T153259Z
LOCATION:5310 Chamberlin Hall
SUMMARY:Special Department Meeting\, Department Meeting
DESCRIPTION:Open discussion of Strategic Plan.
URL:https://www.physics.wisc.edu/events/?id=2276
END:VEVENT
END:VCALENDAR
