BEGIN:VCALENDAR
VERSION:2.0
CALSCALE:GREGORIAN
PRODID:UW-Madison-Physics-Events
BEGIN:VEVENT
SEQUENCE:0
UID:UW-Physics-Event-2277
DTSTART:20111005T171500Z
DURATION:PT1H0M0S
DTSTAMP:20260420T132247Z
LAST-MODIFIED:20111005T145712Z
LOCATION:5310 Chamberlin Hall
SUMMARY:Department Meeting
DESCRIPTION:Department Meeting Canceled.
URL:https://www.physics.wisc.edu/events/?id=2277
END:VEVENT
END:VCALENDAR
