BEGIN:VCALENDAR
VERSION:2.0
CALSCALE:GREGORIAN
PRODID:UW-Madison-Physics-Events
BEGIN:VEVENT
SEQUENCE:0
UID:UW-Physics-Event-2279
DTSTART:20111102T171500Z
DURATION:PT1H0M0S
DTSTAMP:20260420T113803Z
LAST-MODIFIED:20110920T153413Z
LOCATION:5310 Chamberlin Hall
SUMMARY:Department Meeting
DESCRIPTION:
URL:https://www.physics.wisc.edu/events/?id=2279
END:VEVENT
END:VCALENDAR
