BEGIN:VCALENDAR
VERSION:2.0
CALSCALE:GREGORIAN
PRODID:UW-Madison-Physics-Events
BEGIN:VEVENT
SEQUENCE:0
UID:UW-Physics-Event-2281
DTSTART:20111130T181500Z
DURATION:PT1H0M0S
DTSTAMP:20260420T113918Z
LAST-MODIFIED:20120419T172807Z
LOCATION:5310 Chamberlin Hall
SUMMARY:Department Meeting
DESCRIPTION:
URL:https://www.physics.wisc.edu/events/?id=2281
END:VEVENT
END:VCALENDAR
