BEGIN:VCALENDAR
VERSION:2.0
CALSCALE:GREGORIAN
PRODID:UW-Madison-Physics-Events
BEGIN:VEVENT
SEQUENCE:0
UID:UW-Physics-Event-2282
DTSTART:20111214T181500Z
DURATION:PT1H0M0S
DTSTAMP:20260420T095931Z
LAST-MODIFIED:20111212T162610Z
LOCATION:5310 Chamberlin Hall
SUMMARY:Department Meeting
DESCRIPTION:The Department meeting has been canceled.
URL:https://www.physics.wisc.edu/events/?id=2282
END:VEVENT
END:VCALENDAR
