BEGIN:VCALENDAR
VERSION:2.0
CALSCALE:GREGORIAN
PRODID:UW-Madison-Physics-Events
BEGIN:VEVENT
SEQUENCE:0
UID:UW-Physics-Event-2284
DTSTART:20120208T181500Z
DURATION:PT1H0M0S
DTSTAMP:20260420T071611Z
LAST-MODIFIED:20120207T150712Z
LOCATION:5310 Chamberlin Hall
SUMMARY:Department Meeting
DESCRIPTION:Canceled
URL:https://www.physics.wisc.edu/events/?id=2284
END:VEVENT
END:VCALENDAR
