BEGIN:VCALENDAR
VERSION:2.0
CALSCALE:GREGORIAN
PRODID:UW-Madison-Physics-Events
BEGIN:VEVENT
SEQUENCE:0
UID:UW-Physics-Event-2290
DTSTART:20121018T150000Z
DURATION:PT1H0M0S
DTSTAMP:20260420T034853Z
LAST-MODIFIED:20121013T142542Z
LOCATION:5310 Chamberlin
SUMMARY:Quantum Technology: The Second Quantum Revolution\, R. G. Herb
  Condensed Matter Seminar\, Jonathan Dowling\, Louisiana State Univers
 ity
DESCRIPTION:We are currently in the midst of a second quantum revoluti
 on. The first quantum revolution gave us new rules that govern physica
 l reality. The second quantum revolution will take these rules and use
  them to develop new technologies. In this review we discuss the princ
 iples upon which quantum technology is based and the tools required to
  develop it. We discuss a number of examples of research programs that
  could deliver quantum technologies in coming decades including\; quan
 tum information technology\, quantum electromechanical systems\, coher
 ent quantum electronics\, quantum optics and coherent matter technolog
 y. 
URL:https://www.physics.wisc.edu/events/?id=2290
END:VEVENT
END:VCALENDAR
