BEGIN:VCALENDAR
VERSION:2.0
CALSCALE:GREGORIAN
PRODID:UW-Madison-Physics-Events
BEGIN:VEVENT
SEQUENCE:0
UID:UW-Physics-Event-2323
DTSTART:20111115T180500Z
DURATION:PT1H0M0S
DTSTAMP:20260420T113911Z
LAST-MODIFIED:20111024T172440Z
LOCATION:4274 Chamberlin
SUMMARY:Teaching computers to extract complex information from news ar
 ticles\, Chaos & Complex Systems Seminar\, Jude Shavlik\, Jude Shavlik
 \, UW Department of Computer Science
DESCRIPTION:
URL:https://www.physics.wisc.edu/events/?id=2323
END:VEVENT
END:VCALENDAR
