BEGIN:VCALENDAR
VERSION:2.0
CALSCALE:GREGORIAN
PRODID:UW-Madison-Physics-Events
BEGIN:VEVENT
SEQUENCE:0
UID:UW-Physics-Event-2326
DTSTART:20111213T180500Z
DURATION:PT1H0M0S
DTSTAMP:20260422T090230Z
LAST-MODIFIED:20111024T172526Z
LOCATION:4274 Chamberlin
SUMMARY:Dimensional Analysis: Can a trick to help physics students pas
 s exams provide insight into the Nature of the Universe?\, Chaos & Com
 plex Systems Seminar\, Jim Blair\, Milton and Edgewood College
DESCRIPTION:1- Equations\, Units and Dimensions\n\n2- The Fundamenta
 ls: Mass\, Length and Time. (and the Derived: all the others.)\n\n3-
  Some Anomalies: Fractional Exponents? Different things with the Same 
 Dimensions? The same things with Different Dimensions?\n\n4- Add Cha
 rge\, Temperature and Angle to the Fundamentals to resolve the anomali
 es (But the units are arbitrary and not explainable to Aliens.)\n\n5
 - Change the Fundamentals to Angle\, Charge\, Mass\, Velocity\, Action
 \, and Entropy\, and make a unit system that Everyone can understand. 
 (even Bug Eyed Monsters and Little Green Men all over the Universe)\n
 \n6- Another way to look at the Heisenberg Uncertainty Principle.
URL:https://www.physics.wisc.edu/events/?id=2326
END:VEVENT
END:VCALENDAR
