BEGIN:VCALENDAR
VERSION:2.0
CALSCALE:GREGORIAN
PRODID:UW-Madison-Physics-Events
BEGIN:VEVENT
SEQUENCE:0
UID:UW-Physics-Event-2330
DTSTART:20111212T223000Z
DURATION:PT1H0M0S
DTSTAMP:20260420T100027Z
LAST-MODIFIED:20111103T170836Z
LOCATION:5310 Chamberlin
SUMMARY:Magnon spectrum in a spiral magnetic order on the pyrochlore l
 attice\, Condensed Matter Theory Group Seminar\, Eunsong Choi\, UW-Mad
 ison
DESCRIPTION:
URL:https://www.physics.wisc.edu/events/?id=2330
END:VEVENT
END:VCALENDAR
