BEGIN:VCALENDAR
VERSION:2.0
CALSCALE:GREGORIAN
PRODID:UW-Madison-Physics-Events
BEGIN:VEVENT
SEQUENCE:0
UID:UW-Physics-Event-2333
DTSTART:20111111T200000Z
DURATION:PT1H0M0S
DTSTAMP:20260420T113617Z
LAST-MODIFIED:20111026T163929Z
LOCATION:5280 Chamberlin
SUMMARY:Higher Spin Gravity in Three Dimensional de Sitter Space\, The
 ory Seminar (High Energy/Cosmology)\, Peter Ouyang\, Purdue
DESCRIPTION:
URL:https://www.physics.wisc.edu/events/?id=2333
END:VEVENT
END:VCALENDAR
