BEGIN:VCALENDAR
VERSION:2.0
CALSCALE:GREGORIAN
PRODID:UW-Madison-Physics-Events
BEGIN:VEVENT
SEQUENCE:0
UID:UW-Physics-Event-2340
DTSTART:20111129T220000Z
DURATION:PT1H0M0S
DTSTAMP:20260420T113906Z
LAST-MODIFIED:20111123T220718Z
LOCATION:5280 Chamberlin Hall
SUMMARY:Nonstandard Dark Matter Signatures at the LHC\, Theory Seminar
  (High Energy/Cosmology)\, Yang Bai\, SLAC
DESCRIPTION:Null results from dark matter direct detection experiments
  may indicate a nontrivial story in the dark matter sector. One exampl
 e is the inelastic dark matter model with a mass splitting above 1 MeV
 \, where the dark matter kinetic energy is not large enough to induce 
 the inelastic scattering. Another example is the strongly interacting 
 dark matter model with dark matter stopped inside the Earth before rea
 ching detectors. Fortunately\, the LHC can explore both scenarios and 
 test them in spectacular signatures including mono-jet plus displaced 
 pions and trackless jets.
URL:https://www.physics.wisc.edu/events/?id=2340
END:VEVENT
END:VCALENDAR
