BEGIN:VCALENDAR
VERSION:2.0
CALSCALE:GREGORIAN
PRODID:UW-Madison-Physics-Events
BEGIN:VEVENT
SEQUENCE:0
UID:UW-Physics-Event-2348
DTSTART:20111110T180000Z
DURATION:PT1H0M0S
DTSTAMP:20260420T113617Z
LAST-MODIFIED:20111107T165811Z
LOCATION:5280 Chamberlin
SUMMARY:Neutron Spin Filter Development at the Spallation Neutron Sour
 ce\, Atomic Physics Seminar\, Tony Tong\, Oak Ridge National Laborator
 y
DESCRIPTION:
URL:https://www.physics.wisc.edu/events/?id=2348
END:VEVENT
END:VCALENDAR
