BEGIN:VCALENDAR
VERSION:2.0
CALSCALE:GREGORIAN
PRODID:UW-Madison-Physics-Events
BEGIN:VEVENT
SEQUENCE:0
UID:UW-Physics-Event-2533
DTSTART:20120419T150000Z
DURATION:PT1H0M0S
DTSTAMP:20260420T062301Z
LAST-MODIFIED:20120406T164810Z
LOCATION:5310 Chamberlin
SUMMARY:CANCELLED\, R. G. Herb Condensed Matter Seminar\, Craig Zaspel
 \, University of Montana Western
DESCRIPTION:
URL:https://www.physics.wisc.edu/events/?id=2533
END:VEVENT
END:VCALENDAR
