BEGIN:VCALENDAR
VERSION:2.0
CALSCALE:GREGORIAN
PRODID:UW-Madison-Physics-Events
BEGIN:VEVENT
SEQUENCE:0
UID:UW-Physics-Event-2548
DTSTART:20120123T180500Z
DURATION:PT1H0M0S
DTSTAMP:20260420T062200Z
LAST-MODIFIED:20120118T212542Z
LOCATION:2535 Engineering Hall
SUMMARY:Understanding and predicting turbulence in laboratory plasmas\
 , Plasma Physics (Physics/ECE/NE 922) Seminar\, Prof. Frank Jenko\, Ma
 x Planck Institute for Plasma Physics\, Garching
DESCRIPTION:
URL:https://www.physics.wisc.edu/events/?id=2548
END:VEVENT
END:VCALENDAR
