BEGIN:VCALENDAR
VERSION:2.0
CALSCALE:GREGORIAN
PRODID:UW-Madison-Physics-Events
BEGIN:VEVENT
SEQUENCE:0
UID:UW-Physics-Event-2565
DTSTART:20120131T180500Z
DURATION:PT1H0M0S
DTSTAMP:20260420T062158Z
LAST-MODIFIED:20120123T151844Z
LOCATION:4274 Chamberlin
SUMMARY:3D and beyond: Multidimensional imaging of cell based processe
 s\, Chaos & Complex Systems Seminar\, Kevin W. Eliceiri\, UW Departmen
 ts of Biomedical Engineering and Molecular Biology Director\, Laborato
 ry for Optical and Computational Instrumentation (LOCI)
DESCRIPTION:Revolutionary advances in biological and biomedical imagin
 g over the last twenty years have brought about the development of imp
 roved methods for non-invasively imaging dynamic biological processes.
  Of particular significance have been optical (photonic) techniques th
 at have allowed for the visualization and manipulation of molecular an
 d cellular structures within living tissue with minimal perturbation. 
 The efforts of the multidisciplinary UW-Madison Laboratory for Optical
  and Computational Instrumentation (LOCI)\, to develop optical and com
 putational approaches for biological and biomedical studies will be pr
 esented. These efforts include signal processing approaches for multid
 imensional image analysis\, image informatics\, nonlinear optical and 
 intrinsic fluorescence studies\, optical histopathology\, and approach
 es for deep imaging of biological tissue. 
URL:https://www.physics.wisc.edu/events/?id=2565
END:VEVENT
END:VCALENDAR
